BEGIN:VCALENDAR
VERSION:2.0
PRODID:-//Canadian Harvard Aircraft Association - ECPv6.15.20//NONSGML v1.0//EN
CALSCALE:GREGORIAN
METHOD:PUBLISH
X-WR-CALNAME:Canadian Harvard Aircraft Association
X-ORIGINAL-URL:https://www.harvards.com
X-WR-CALDESC:Events for Canadian Harvard Aircraft Association
REFRESH-INTERVAL;VALUE=DURATION:PT1H
X-Robots-Tag:noindex
X-PUBLISHED-TTL:PT1H
BEGIN:VTIMEZONE
TZID:America/Toronto
BEGIN:DAYLIGHT
TZOFFSETFROM:-0500
TZOFFSETTO:-0400
TZNAME:EDT
DTSTART:20240310T070000
END:DAYLIGHT
BEGIN:STANDARD
TZOFFSETFROM:-0400
TZOFFSETTO:-0500
TZNAME:EST
DTSTART:20241103T060000
END:STANDARD
BEGIN:DAYLIGHT
TZOFFSETFROM:-0500
TZOFFSETTO:-0400
TZNAME:EDT
DTSTART:20250309T070000
END:DAYLIGHT
BEGIN:STANDARD
TZOFFSETFROM:-0400
TZOFFSETTO:-0500
TZNAME:EST
DTSTART:20251102T060000
END:STANDARD
BEGIN:DAYLIGHT
TZOFFSETFROM:-0500
TZOFFSETTO:-0400
TZNAME:EDT
DTSTART:20260308T070000
END:DAYLIGHT
BEGIN:STANDARD
TZOFFSETFROM:-0400
TZOFFSETTO:-0500
TZNAME:EST
DTSTART:20261101T060000
END:STANDARD
END:VTIMEZONE
BEGIN:VEVENT
DTSTART;TZID=America/Toronto:20250628T190000
DTEND;TZID=America/Toronto:20250628T220000
DTSTAMP:20260419T125805
CREATED:20250306T152119Z
LAST-MODIFIED:20250428T181005Z
UID:4611-1751137200-1751148000@www.harvards.com
SUMMARY:Member's Potluck & Movie Night
DESCRIPTION:All members are welcome to join us in the North Hangar for our Member’s Potluck & Movie Night.
URL:https://www.harvards.com/event/members-potluck-movie-night/
LOCATION:Tillsonburg Airport – North Hangar\, 244411 Airport Rd\, Tillsonburg\, Ontario\, N4G 4H1\, Canada
CATEGORIES:Membership Events
END:VEVENT
END:VCALENDAR