BEGIN:VCALENDAR
VERSION:2.0
PRODID:-//Canadian Harvard Aircraft Association - ECPv6.15.20//NONSGML v1.0//EN
CALSCALE:GREGORIAN
METHOD:PUBLISH
X-ORIGINAL-URL:https://www.harvards.com
X-WR-CALDESC:Events for Canadian Harvard Aircraft Association
REFRESH-INTERVAL;VALUE=DURATION:PT1H
X-Robots-Tag:noindex
X-PUBLISHED-TTL:PT1H
BEGIN:VTIMEZONE
TZID:America/Toronto
BEGIN:DAYLIGHT
TZOFFSETFROM:-0500
TZOFFSETTO:-0400
TZNAME:EDT
DTSTART:20240310T070000
END:DAYLIGHT
BEGIN:STANDARD
TZOFFSETFROM:-0400
TZOFFSETTO:-0500
TZNAME:EST
DTSTART:20241103T060000
END:STANDARD
BEGIN:DAYLIGHT
TZOFFSETFROM:-0500
TZOFFSETTO:-0400
TZNAME:EDT
DTSTART:20250309T070000
END:DAYLIGHT
BEGIN:STANDARD
TZOFFSETFROM:-0400
TZOFFSETTO:-0500
TZNAME:EST
DTSTART:20251102T060000
END:STANDARD
BEGIN:DAYLIGHT
TZOFFSETFROM:-0500
TZOFFSETTO:-0400
TZNAME:EDT
DTSTART:20260308T070000
END:DAYLIGHT
BEGIN:STANDARD
TZOFFSETFROM:-0400
TZOFFSETTO:-0500
TZNAME:EST
DTSTART:20261101T060000
END:STANDARD
END:VTIMEZONE
BEGIN:VEVENT
DTSTART;TZID=America/Toronto:20250601T090000
DTEND;TZID=America/Toronto:20250601T170000
DTSTAMP:20260419T114737
CREATED:20250306T151832Z
LAST-MODIFIED:20250515T131044Z
UID:4608-1748768400-1748797200@www.harvards.com
SUMMARY:Stratford Family Pancake Breakfast Aviation Day
DESCRIPTION:The Canadian Harvard Aircraft Association is very pleased to participate in this year’s annual Family Pancake Breakfast Fly-in and Drive-in at the Stratford Municipal Airport. This event is sponsored by Chapter 69 of the Canadian Owners and Pilots Association\, and is in support of the Stratford General Hospital Foundation. \nCHAA will be bringing two aircraft and offering rides. To pre-book a flight\, please email crewflights@harvards.com.  \nAnyone who wishes to enjoy a fabulous breakfast and seeing some great historic aircraft (another participant is the Edenvale Classic Aircraft Foundation) is welcome at the cost of a donation to the Hospital Foundation. \nStart time is 8am. \nA few notes regarding our Flight Experiences: \n\nCost: $475 + $75 for a 1-year membership for a 20-minute flight\nAge Restriction: minimum 12 years old\nHeight restriction: None (unless the passenger is NBA tall)\nWeight restriction: 220 pounds
URL:https://www.harvards.com/event/stratford-aviation-day/
LOCATION:Stratford Municipal Airport\, 3022 Line 40\, Stratford\, Ontario\, N5A 6S2\, Canada
CATEGORIES:Membership Events
ATTACH;FMTTYPE=image/jpeg:https://www.harvards.com/wp-content/uploads/fly-with-us-February-Gus.jpg
END:VEVENT
BEGIN:VEVENT
DTSTART;TZID=America/Toronto:20250621T090000
DTEND;TZID=America/Toronto:20250621T170000
DTSTAMP:20260419T114737
CREATED:20250306T153909Z
LAST-MODIFIED:20250428T184850Z
UID:4617-1750496400-1750525200@www.harvards.com
SUMMARY:Military Heritage Day\, Chatham
DESCRIPTION:The Canadian Harvard Aircraft Association is very pleased to be participating in the Timmermans Legends of Flight\, “Military Heritage Day” on June 21. \nA number of historical aircraft from around southern Ontario will gather at the Chatham-Kent Municipal Airport for this inaugural aviation event. \nCHAA will be selling flight experiences. To pre-book your flight\, email us at crewflights@harvards.com.
URL:https://www.harvards.com/event/chatham-military-heritage-day/
LOCATION:Chatham-Kent Municipal Airport\, 8528 14 Line\, Merlin\, Ontario\, N0P 1W0\, Canada
CATEGORIES:Flight Tours,Membership Events
ATTACH;FMTTYPE=image/jpeg:https://www.harvards.com/wp-content/uploads/fly-with-us-February-Gus.jpg
END:VEVENT
BEGIN:VEVENT
DTSTART;TZID=America/Toronto:20250628T190000
DTEND;TZID=America/Toronto:20250628T220000
DTSTAMP:20260419T114737
CREATED:20250306T152119Z
LAST-MODIFIED:20250428T181005Z
UID:4611-1751137200-1751148000@www.harvards.com
SUMMARY:Member's Potluck & Movie Night
DESCRIPTION:All members are welcome to join us in the North Hangar for our Member’s Potluck & Movie Night.
URL:https://www.harvards.com/event/members-potluck-movie-night/
LOCATION:Tillsonburg Airport – North Hangar\, 244411 Airport Rd\, Tillsonburg\, Ontario\, N4G 4H1\, Canada
CATEGORIES:Membership Events
END:VEVENT
END:VCALENDAR